BEGIN:VCALENDAR
PRODID:-//PUBBLE//agenda//NL
VERSION:2.0
METHOD:PUBLISH
BEGIN:VEVENT
DTSTART:20260422T090454Z
DTEND:20260422T100454Z
DTSTAMP:20260424T165757Z
UID:2a19bb01-a684-433f-b1ea-cad3acbe89ae
CREATED:20260424T165757Z
NAME:Vrijheidssoep in Arnhem-West arnhemsekoerier.nl
X-WR-CALNAME:Vrijheidssoep in Arnhem-West
X-ALT-DESC;FMTTYPE=text/html:<a href='/agenda/2026/5/5/vrijheidssoep-in-arnhem-west-218081'>/agenda/2026/5/5/vrijheidssoep-in-arnhem-west-218081</a> || <p>ARNHEM - Bewoners van Lombok, Klingelbeek/Hoogstede, Heijenoord en Het Dorp kunnen dinsdag 5 mei – Bevrijdingsdag – om 18.00 uur aanschuiven voor een gezamenlijke Vrijheidssoep in de binnentuin van buurtcentrum ’t Huukske aan de Mauritsstraat 22 in Arnhem-West.
</p><p>“Wie je ook bent en wat je achtergrond ook is: samen eten is een mooie manier om buurtgenoten te ontmoeten, verhalen te delen en stil te staan bij het feit dat we in Nederland al ruim tachtig jaar in vrijheid leven. De gezamenlijke soepmaaltijd is een initiatief van buurtcentrum ’t Huukske, in samenwerking met de PGFA-kerk, en sluit aan bij de landelijke Vrijheidsmaaltijden van het Nationaal Comité 4 en 5 mei”, aldus de organisatie.
</p><p>De (veganistische) soep wordt bereid volgens een recept van culinair expert Janny van der Heijden. Tussen de soepkommen en mandjes stokbrood liggen inspiratiekaartjes om het gesprek op gang te helpen, terwijl een muzikant voor extra sfeer zorgt.
</p><p>Deelname is gratis. Er is plek voor zo’n dertig mensen, dus aanmelden is nodig. Dat kan via huukske.coordinator@gmail.com. Bij slecht weer wordt uitgeweken naar het Huiskamercafé van ’t Huukske.</p>
DESCRIPTION:<a href='/agenda/2026/5/5/vrijheidssoep-in-arnhem-west-218081'>/agenda/2026/5/5/vrijheidssoep-in-arnhem-west-218081</a> || <p>ARNHEM - Bewoners van Lombok, Klingelbeek/Hoogstede, Heijenoord en Het Dorp kunnen dinsdag 5 mei – Bevrijdingsdag – om 18.00 uur aanschuiven voor een gezamenlijke Vrijheidssoep in de binnentuin van buurtcentrum ’t Huukske aan de Mauritsstraat 22 in Arnhem-West.
</p><p>“Wie je ook bent en wat je achtergrond ook is: samen eten is een mooie manier om buurtgenoten te ontmoeten, verhalen te delen en stil te staan bij het feit dat we in Nederland al ruim tachtig jaar in vrijheid leven. De gezamenlijke soepmaaltijd is een initiatief van buurtcentrum ’t Huukske, in samenwerking met de PGFA-kerk, en sluit aan bij de landelijke Vrijheidsmaaltijden van het Nationaal Comité 4 en 5 mei”, aldus de organisatie.
</p><p>De (veganistische) soep wordt bereid volgens een recept van culinair expert Janny van der Heijden. Tussen de soepkommen en mandjes stokbrood liggen inspiratiekaartjes om het gesprek op gang te helpen, terwijl een muzikant voor extra sfeer zorgt.
</p><p>Deelname is gratis. Er is plek voor zo’n dertig mensen, dus aanmelden is nodig. Dat kan via huukske.coordinator@gmail.com. Bij slecht weer wordt uitgeweken naar het Huiskamercafé van ’t Huukske.</p>
LAST-MODIFIED:20260424T165757Z
LOCATION: 't Huukske | Mauritsstraat 22 Arnhem
SEQUENCE:0
STATUS:CONFIRMED
SUMMARY:Vrijheidssoep in Arnhem-West
TRANSP:OPAQUE
END:VEVENT
END:VCALENDAR
