BEGIN:VCALENDAR
PRODID:-//PUBBLE//agenda//NL
VERSION:2.0
METHOD:PUBLISH
BEGIN:VEVENT
DTSTART:20260422T081110Z
DTEND:20260422T091110Z
DTSTAMP:20260425T163412Z
UID:b1c99c5c-af9f-4162-9090-34771a9f075a
CREATED:20260425T163412Z
NAME:Dinsdag 28 april | The Truman Show | FOCUS X CASA arnhemsekoerier.nl
X-WR-CALNAME:Dinsdag 28 april | The Truman Show | FOCUS X CASA
X-ALT-DESC;FMTTYPE=text/html:<a href='/agenda/2026/4/28/dinsdag-28-april-the-truman-show-focus-x-casa-218069'>/agenda/2026/4/28/dinsdag-28-april-the-truman-show-focus-x-casa-218069</a> || <p>ARNHEM- In het kader van (2)026: A Space Odyssey presenteren Focus Filmtheater en CASA dit jaar een reeks sciencefiction-films. Op dinsdag 28 april om 19:00 uur wordt de derde film van deze reeks vertoond: The Truman Show. Inleider is René Boer, auteur van het boek Smooth City. Against Urban Perfection, Towards Collective Alternatives.&nbsp;
</p><p>The Truman Show (Peter Weir, USA 1998) is een slimme satire met Jim Carrey en neemt op een elegante en grappige manier reality tv op de korrel. Al sinds hij een baby was, woont Truman (Jim Carrey) in het met verborgen camera’s volgehangen stadje Seahaven. Hij weet niet dat alle personen om hem heen acteurs zijn en hij 24 uur per dag met verborgen camera’s gefilmd wordt. Vanuit de regiekamer regelt showrunner Christof (Ed Harris) zijn leven. Alleen wordt Truman verliefd op de verkeerde. Goed spel van Carrey in zijn eerste serieuze rol, waarbij hij tijdens de draaiperiode steeds meer ruimte voor improvisatie opeiste. De regie, het script en de bijrol van Ed Harris kregen Oscarnominaties.<br><br>Deze filmreeks is een samenwerking tussen Focus Filmtheater en architectuurcentrum CASA. Zie www.focusarnhem.nl voor meer info en tickets. Check www.casa-arnhem.nl voor het volledige programma van (2)026: A Space Odyssey.</p>
DESCRIPTION:<a href='/agenda/2026/4/28/dinsdag-28-april-the-truman-show-focus-x-casa-218069'>/agenda/2026/4/28/dinsdag-28-april-the-truman-show-focus-x-casa-218069</a> || <p>ARNHEM- In het kader van (2)026: A Space Odyssey presenteren Focus Filmtheater en CASA dit jaar een reeks sciencefiction-films. Op dinsdag 28 april om 19:00 uur wordt de derde film van deze reeks vertoond: The Truman Show. Inleider is René Boer, auteur van het boek Smooth City. Against Urban Perfection, Towards Collective Alternatives.&nbsp;
</p><p>The Truman Show (Peter Weir, USA 1998) is een slimme satire met Jim Carrey en neemt op een elegante en grappige manier reality tv op de korrel. Al sinds hij een baby was, woont Truman (Jim Carrey) in het met verborgen camera’s volgehangen stadje Seahaven. Hij weet niet dat alle personen om hem heen acteurs zijn en hij 24 uur per dag met verborgen camera’s gefilmd wordt. Vanuit de regiekamer regelt showrunner Christof (Ed Harris) zijn leven. Alleen wordt Truman verliefd op de verkeerde. Goed spel van Carrey in zijn eerste serieuze rol, waarbij hij tijdens de draaiperiode steeds meer ruimte voor improvisatie opeiste. De regie, het script en de bijrol van Ed Harris kregen Oscarnominaties.<br><br>Deze filmreeks is een samenwerking tussen Focus Filmtheater en architectuurcentrum CASA. Zie www.focusarnhem.nl voor meer info en tickets. Check www.casa-arnhem.nl voor het volledige programma van (2)026: A Space Odyssey.</p>
LAST-MODIFIED:20260425T163412Z
LOCATION: Focus Filmtheater | Audrey Hepburnplein  1 Arnhem
SEQUENCE:0
STATUS:CONFIRMED
SUMMARY:Dinsdag 28 april | The Truman Show | FOCUS X CASA
TRANSP:OPAQUE
END:VEVENT
END:VCALENDAR
