BEGIN:VCALENDAR
PRODID:-//PUBBLE//agenda//NL
VERSION:2.0
METHOD:PUBLISH
BEGIN:VEVENT
DTSTART:20260420T123646Z
DTEND:20260425T150000Z
DTSTAMP:20260420T172609Z
UID:0604fd50-4764-4dfd-bf58-000eba342768
CREATED:20260420T172609Z
NAME:50 jaar MGV DUNO Doorwerth arnhemsekoerier.nl
X-WR-CALNAME:50 jaar MGV DUNO Doorwerth
X-ALT-DESC;FMTTYPE=text/html:<a href='/agenda/2026/4/25/50-jaar-mgv-duno-doorwerth-217943'>/agenda/2026/4/25/50-jaar-mgv-duno-doorwerth-217943</a> || <p>DOORWERTH - Minigolfvereniging MGV Duno in Doorwerth viert haar vijftigjarig bestaan. Op zaterdag 25 april doet de vereniging mee aan de Landelijke Open MinigolfDag en is de baan gratis toegankelijk voor iedereen.</p><p>Van 11.00 tot 17.00 uur kunnen bezoekers kennismaken met de baan, de sport en de vereniging aan de W.A. Scholtenlaan 138a in Doorwerth. Leden zijn aanwezig om meer te vertellen over minigolf en bezoekers kunnen zelf een rondje spelen.</p><p><strong>Vijftig jaar minigolf</strong></p><p>MGV Duno bestaat al een halve eeuw en is nog altijd actief, zowel recreatief als sportief. Tijdens de open dag is deelname gratis.</p><p><strong>Wat:</strong> Landelijke Open MinigolfDag, MGV Duno <br /><strong>Wanneer:</strong> Zaterdag 25 april, 11.00–17.00 uur <br /><strong>Waar:</strong> W.A. Scholtenlaan 138a, Doorwerth</p>
DESCRIPTION:<a href='/agenda/2026/4/25/50-jaar-mgv-duno-doorwerth-217943'>/agenda/2026/4/25/50-jaar-mgv-duno-doorwerth-217943</a> || <p>DOORWERTH - Minigolfvereniging MGV Duno in Doorwerth viert haar vijftigjarig bestaan. Op zaterdag 25 april doet de vereniging mee aan de Landelijke Open MinigolfDag en is de baan gratis toegankelijk voor iedereen.</p><p>Van 11.00 tot 17.00 uur kunnen bezoekers kennismaken met de baan, de sport en de vereniging aan de W.A. Scholtenlaan 138a in Doorwerth. Leden zijn aanwezig om meer te vertellen over minigolf en bezoekers kunnen zelf een rondje spelen.</p><p><strong>Vijftig jaar minigolf</strong></p><p>MGV Duno bestaat al een halve eeuw en is nog altijd actief, zowel recreatief als sportief. Tijdens de open dag is deelname gratis.</p><p><strong>Wat:</strong> Landelijke Open MinigolfDag, MGV Duno <br /><strong>Wanneer:</strong> Zaterdag 25 april, 11.00–17.00 uur <br /><strong>Waar:</strong> W.A. Scholtenlaan 138a, Doorwerth</p>
LAST-MODIFIED:20260420T172609Z
LOCATION: MGV Duno | W.A. Scholtenlaan 138a Doorwerth
SEQUENCE:0
STATUS:CONFIRMED
SUMMARY:50 jaar MGV DUNO Doorwerth
TRANSP:OPAQUE
END:VEVENT
END:VCALENDAR
