BEGIN:VCALENDAR
PRODID:-//PUBBLE//agenda//NL
VERSION:2.0
METHOD:PUBLISH
BEGIN:VEVENT
DTSTART:20260425T090000Z
DTEND:20260425T103000Z
DTSTAMP:20260423T143436Z
UID:b2dd9303-c3d4-49f7-aea4-a653395220d5
CREATED:20260423T143436Z
NAME:Glittertattoos voor Koningsdag! arnhemsekoerier.nl
X-WR-CALNAME:Glittertattoos voor Koningsdag!
X-ALT-DESC;FMTTYPE=text/html:<a href='/agenda/2026/4/25/glittertattoos-voor-koningsdag--217857'>/agenda/2026/4/25/glittertattoos-voor-koningsdag--217857</a> || <p>Linda van FEESTJEMETLINN komt weer langs in De Arnhemse Kinderboekwinkel: zij kan als de beste de prachtigste glittertattoos maken! Dit keer kun je kiezen uit de leukste Koningsdag-plaatjes. Je hoeft je niet aan te melden en de tattoos zijn gratis.</p>
DESCRIPTION:<a href='/agenda/2026/4/25/glittertattoos-voor-koningsdag--217857'>/agenda/2026/4/25/glittertattoos-voor-koningsdag--217857</a> || <p>Linda van FEESTJEMETLINN komt weer langs in De Arnhemse Kinderboekwinkel: zij kan als de beste de prachtigste glittertattoos maken! Dit keer kun je kiezen uit de leukste Koningsdag-plaatjes. Je hoeft je niet aan te melden en de tattoos zijn gratis.</p>
LAST-MODIFIED:20260423T143436Z
LOCATION: De Arnhemse Kinderboekwinkel | Weverstraat 26 Arnhem
SEQUENCE:0
STATUS:CONFIRMED
SUMMARY:Glittertattoos voor Koningsdag!
TRANSP:OPAQUE
END:VEVENT
END:VCALENDAR
