BEGIN:VCALENDAR
PRODID:-//PUBBLE//agenda//NL
VERSION:2.0
METHOD:PUBLISH
BEGIN:VEVENT
DTSTART:20260426T080000Z
DTEND:20260426T090000Z
DTSTAMP:20260425T143236Z
UID:b55ffc91-352a-4baf-a293-82476efa514a
CREATED:20260425T143236Z
NAME:Lauden, kloosterlijke lofzang in de ochtend. arnhemsekoerier.nl
X-WR-CALNAME:Lauden, kloosterlijke lofzang in de ochtend.
X-ALT-DESC;FMTTYPE=text/html:<a href='/agenda/2026/4/26/lauden-kloosterlijke-lofzang-in-de-ochtend--217486'>/agenda/2026/4/26/lauden-kloosterlijke-lofzang-in-de-ochtend--217486</a> || <p>De Lauden is een van de getijdengebeden, een meditatieve gebedsvorm, die in de kloosters (ook nu nog) wordt beoefend. De Lauden in de Waalse kerk zijn ontleend aan deze kloostertraditie.</p><p>Oude psalmen en moderne gedichten worden rondom de lezing van de zondag uitgekozen .Samen vormen ze een eenheid en een mooie manier om tot verdieping te komen. Daarnaast is er orgelspel gebed en stilte. ’n Uur verdieping, inspiratie en goede inzichten voor dit drukke bestaan.</p><p>M.m.v. Laudenkoor en Alexander Saladin -orgel.</p><p>Waalse kerk, iedere 4de zondag van de maand.</p>
DESCRIPTION:<a href='/agenda/2026/4/26/lauden-kloosterlijke-lofzang-in-de-ochtend--217486'>/agenda/2026/4/26/lauden-kloosterlijke-lofzang-in-de-ochtend--217486</a> || <p>De Lauden is een van de getijdengebeden, een meditatieve gebedsvorm, die in de kloosters (ook nu nog) wordt beoefend. De Lauden in de Waalse kerk zijn ontleend aan deze kloostertraditie.</p><p>Oude psalmen en moderne gedichten worden rondom de lezing van de zondag uitgekozen .Samen vormen ze een eenheid en een mooie manier om tot verdieping te komen. Daarnaast is er orgelspel gebed en stilte. ’n Uur verdieping, inspiratie en goede inzichten voor dit drukke bestaan.</p><p>M.m.v. Laudenkoor en Alexander Saladin -orgel.</p><p>Waalse kerk, iedere 4de zondag van de maand.</p>
LAST-MODIFIED:20260425T143236Z
LOCATION: Waalse kerk Arnhem | Gasthuisstraat 1 Arnhem
SEQUENCE:0
STATUS:CONFIRMED
SUMMARY:Lauden, kloosterlijke lofzang in de ochtend.
TRANSP:OPAQUE
END:VEVENT
END:VCALENDAR
