BEGIN:VCALENDAR
PRODID:-//PUBBLE//agenda//NL
VERSION:2.0
METHOD:PUBLISH
BEGIN:VEVENT
DTSTART:20260422T080000Z
DTEND:20260422T100000Z
DTSTAMP:20260422T140759Z
UID:d514cd72-b44b-4ecc-90b0-915789f41ca0
CREATED:20260422T140759Z
NAME:Geologie-carrousel in het Gelders Geologisch Museum arnhemsekoerier.nl
X-WR-CALNAME:Geologie-carrousel in het Gelders Geologisch Museum
X-ALT-DESC;FMTTYPE=text/html:<a href='/agenda/2026/4/22/geologie-carrousel-in-het-gelders-geologisch-museum-217148'>/agenda/2026/4/22/geologie-carrousel-in-het-gelders-geologisch-museum-217148</a> || <p>Wie wordt er geoloog?&nbsp;</p><p>Zelf schatten zoeken en maken</p><p>Op woensdag 22 april is er een geologie-carrousel voor de jeugd met: fossieltjes &nbsp;zoeken - goudpannen - stenen slijpen – steentjes kraken.</p><p>Je gaat op zoek naar (gekken)goud en naar minifossieltjes. Met wat geluk vindt je zelfs een mini zeeëgeltje. Daarnaast leer je hoe je zelf een steen slijpt en je gaat stenen kraken. Zo kan je in het binnenste van de stenen de prachtigste stukken mineraal bij elkaar zoeken.</p><p>Het is een speurtocht door verschillende onderdelen van de geologie. Alles wat je zelf vindt en maakt, neem je natuurlijk ook mee naar huis.</p><p>De prijs is € 11,00, dit is inclusief consumptie. We starten om 10.00 uur en rond 12.00 uur zijn we klaar. Het is bedoeld voor kinderen van 6 t/m 12 jaar. Aanmelden kan via&nbsp;026-3642996&nbsp;tijdens openingstijden (di-zo 12:00-17:00 uur). Wees er snel bij, want er is ruimte voor maximaal 16 kinderen.</p><p>Graag tot ziens in ons Gelders Geologisch Museum, Parkstraat 32, Velp (www.geologischmuseum.nl).</p>
DESCRIPTION:<a href='/agenda/2026/4/22/geologie-carrousel-in-het-gelders-geologisch-museum-217148'>/agenda/2026/4/22/geologie-carrousel-in-het-gelders-geologisch-museum-217148</a> || <p>Wie wordt er geoloog?&nbsp;</p><p>Zelf schatten zoeken en maken</p><p>Op woensdag 22 april is er een geologie-carrousel voor de jeugd met: fossieltjes &nbsp;zoeken - goudpannen - stenen slijpen – steentjes kraken.</p><p>Je gaat op zoek naar (gekken)goud en naar minifossieltjes. Met wat geluk vindt je zelfs een mini zeeëgeltje. Daarnaast leer je hoe je zelf een steen slijpt en je gaat stenen kraken. Zo kan je in het binnenste van de stenen de prachtigste stukken mineraal bij elkaar zoeken.</p><p>Het is een speurtocht door verschillende onderdelen van de geologie. Alles wat je zelf vindt en maakt, neem je natuurlijk ook mee naar huis.</p><p>De prijs is € 11,00, dit is inclusief consumptie. We starten om 10.00 uur en rond 12.00 uur zijn we klaar. Het is bedoeld voor kinderen van 6 t/m 12 jaar. Aanmelden kan via&nbsp;026-3642996&nbsp;tijdens openingstijden (di-zo 12:00-17:00 uur). Wees er snel bij, want er is ruimte voor maximaal 16 kinderen.</p><p>Graag tot ziens in ons Gelders Geologisch Museum, Parkstraat 32, Velp (www.geologischmuseum.nl).</p>
LAST-MODIFIED:20260422T140759Z
LOCATION: Gelders Geologisch Museum | Parkstraat 32 Velp
SEQUENCE:0
STATUS:CONFIRMED
SUMMARY:Geologie-carrousel in het Gelders Geologisch Museum
TRANSP:OPAQUE
END:VEVENT
END:VCALENDAR
