BEGIN:VCALENDAR
PRODID:-//PUBBLE//agenda//NL
VERSION:2.0
METHOD:PUBLISH
BEGIN:VEVENT
DTSTART:20260319T180000Z
DTEND:20260319T193000Z
DTSTAMP:20260424T221315Z
UID:9f5b873f-0bda-438e-b27e-0cb49e579c07
CREATED:20260424T221315Z
NAME:Je woning verduurzamen en geld, wat is er mogelijk? arnhemsekoerier.nl
X-WR-CALNAME:Je woning verduurzamen en geld, wat is er mogelijk?
X-ALT-DESC;FMTTYPE=text/html:<a href='/agenda/2026/3/19/je-woning-verduurzamen-en-geld-wat-is-er-mogelijk--215176'>/agenda/2026/3/19/je-woning-verduurzamen-en-geld-wat-is-er-mogelijk--215176</a> || <p>Op donderdagavond 19 maart om 20.00 uur (inloop vanaf 19:30) organiseert de werkgroep Duurzaam Rijkerswoerd in het sportcentrum Rijkerswoerd een wijkavond voor alle inwoners van Rijkerswoerd over verduurzamen en geld.</p><p>De onderwerpen die u kunt verwachten zijn:</p><p>Maatregelen: Hoe kan ik snel en makkelijk inzicht krijgen in verduurzamingsmaatregelen die voor mijn woning zinvol zijn?</p><p>Kosten: Wat gaan deze maatregelen mij ongeveer kosten?</p><p>Baten: Wat is het effect op mijn energierekening en de woningwaarde?</p><p>Subsidies: Welke subsidies zijn er voor mij beschikbaar?</p><p>Financiering: Op welke manieren kan ik dit financieren?</p><p>Na deze avond kunt u eenvoudig een plan maken voor uw woning waarmee u een verantwoorde afweging kunt maken over wat u wel en niet wilt doen met verduurzamen.</p><p>De avond is een open inloop voor alle inwoners, desalniettemin wordt het wel gewaardeerd als je vooraf een mailtje stuurt naar: duurzaam@rijkerswoerd.net</p>
DESCRIPTION:<a href='/agenda/2026/3/19/je-woning-verduurzamen-en-geld-wat-is-er-mogelijk--215176'>/agenda/2026/3/19/je-woning-verduurzamen-en-geld-wat-is-er-mogelijk--215176</a> || <p>Op donderdagavond 19 maart om 20.00 uur (inloop vanaf 19:30) organiseert de werkgroep Duurzaam Rijkerswoerd in het sportcentrum Rijkerswoerd een wijkavond voor alle inwoners van Rijkerswoerd over verduurzamen en geld.</p><p>De onderwerpen die u kunt verwachten zijn:</p><p>Maatregelen: Hoe kan ik snel en makkelijk inzicht krijgen in verduurzamingsmaatregelen die voor mijn woning zinvol zijn?</p><p>Kosten: Wat gaan deze maatregelen mij ongeveer kosten?</p><p>Baten: Wat is het effect op mijn energierekening en de woningwaarde?</p><p>Subsidies: Welke subsidies zijn er voor mij beschikbaar?</p><p>Financiering: Op welke manieren kan ik dit financieren?</p><p>Na deze avond kunt u eenvoudig een plan maken voor uw woning waarmee u een verantwoorde afweging kunt maken over wat u wel en niet wilt doen met verduurzamen.</p><p>De avond is een open inloop voor alle inwoners, desalniettemin wordt het wel gewaardeerd als je vooraf een mailtje stuurt naar: duurzaam@rijkerswoerd.net</p>
LAST-MODIFIED:20260424T221315Z
LOCATION: Sportcentrum Rijkerswoerd |   Arnhem
SEQUENCE:0
STATUS:CONFIRMED
SUMMARY:Je woning verduurzamen en geld, wat is er mogelijk?
TRANSP:OPAQUE
END:VEVENT
END:VCALENDAR
