BEGIN:VCALENDAR
PRODID:-//PUBBLE//agenda//NL
VERSION:2.0
METHOD:PUBLISH
BEGIN:VEVENT
DTSTART:20260308T083000Z
DTEND:20260308T103000Z
DTSTAMP:20260423T013725Z
UID:09a4f5be-b758-4c27-a670-365682b6f82c
CREATED:20260423T013725Z
NAME:Maak Arnhem groener: plant mee in het Voedselbos Elderveld! arnhemsekoerier.nl
X-WR-CALNAME:Maak Arnhem groener: plant mee in het Voedselbos Elderveld!
X-ALT-DESC;FMTTYPE=text/html:<a href='/agenda/2026/3/8/maak-arnhem-groener-plant-mee-in-het-voedselbos-elderveld--215108'>/agenda/2026/3/8/maak-arnhem-groener-plant-mee-in-het-voedselbos-elderveld--215108</a> || <p>Samen maken we Arnhem groener! “Onder begeleiding van Paul Tenniglo, gepassioneerd groenactivist en werkgroeplid die al duizenden vierkante meters bloemenzaad heeft gezaaid, gaan we aan de slag in het voedselbos in Elderveld. Hij vertelt over insectvriendelijke beplanting, zijn werk voor insecten en laat zien hoe je het best kunt planten en zaaien.”<br /><br />“Na de uitleg gaan we samen de handen uit de mouwen steken: we planten struikjes en kleine planten die eetbaar zijn én bijdragen aan de biodiversiteit. Zo dragen we bij aan een bloeiende leefomgeving voor bijen, vlinders en andere insecten. Als bonus krijg je een gratis bloemenmengsel mee, zodat je ook in je eigen buurt aan de slag kunt.”<br /><br /></p><p>Iedereen is welkom! Of je nu ervaring hebt of niet, samen maken we het verschil. Kom jij ook helpen? Aanmelden is fijn voor onze voorbereiding en kan via: <a href="mailto:fractiearnhem@partijvoordedieren.nl">fractiearnhem@partijvoordedieren.nl</a><br /><br /></p><p>Programma:&nbsp;</p><p>10:30 verzamelen<br />10:45 introductie Paul Tenniglo<br />11:00 aan de slag met planten! </p>
DESCRIPTION:<a href='/agenda/2026/3/8/maak-arnhem-groener-plant-mee-in-het-voedselbos-elderveld--215108'>/agenda/2026/3/8/maak-arnhem-groener-plant-mee-in-het-voedselbos-elderveld--215108</a> || <p>Samen maken we Arnhem groener! “Onder begeleiding van Paul Tenniglo, gepassioneerd groenactivist en werkgroeplid die al duizenden vierkante meters bloemenzaad heeft gezaaid, gaan we aan de slag in het voedselbos in Elderveld. Hij vertelt over insectvriendelijke beplanting, zijn werk voor insecten en laat zien hoe je het best kunt planten en zaaien.”<br /><br />“Na de uitleg gaan we samen de handen uit de mouwen steken: we planten struikjes en kleine planten die eetbaar zijn én bijdragen aan de biodiversiteit. Zo dragen we bij aan een bloeiende leefomgeving voor bijen, vlinders en andere insecten. Als bonus krijg je een gratis bloemenmengsel mee, zodat je ook in je eigen buurt aan de slag kunt.”<br /><br /></p><p>Iedereen is welkom! Of je nu ervaring hebt of niet, samen maken we het verschil. Kom jij ook helpen? Aanmelden is fijn voor onze voorbereiding en kan via: <a href="mailto:fractiearnhem@partijvoordedieren.nl">fractiearnhem@partijvoordedieren.nl</a><br /><br /></p><p>Programma:&nbsp;</p><p>10:30 verzamelen<br />10:45 introductie Paul Tenniglo<br />11:00 aan de slag met planten! </p>
LAST-MODIFIED:20260423T013725Z
LOCATION: Voedselbos Elderveld | Aalsmeerhof  Arnhem
SEQUENCE:0
STATUS:CONFIRMED
SUMMARY:Maak Arnhem groener: plant mee in het Voedselbos Elderveld!
TRANSP:OPAQUE
END:VEVENT
END:VCALENDAR
