BEGIN:VCALENDAR
PRODID:-//PUBBLE//agenda//NL
VERSION:2.0
METHOD:PUBLISH
BEGIN:VEVENT
DTSTART:20251110T075914Z
DTEND:20251110T085914Z
DTSTAMP:20260425T011008Z
UID:26272628-ea5a-4ce6-886a-8aa79625e7fe
CREATED:20260425T011008Z
NAME:Feestelijk concert Arnhem Sinfoniëtta arnhemsekoerier.nl
X-WR-CALNAME:Feestelijk concert Arnhem Sinfoniëtta
X-ALT-DESC;FMTTYPE=text/html:<a href='/agenda/2025/12/7/feestelijk-concert-arnhem-sinfonietta-209526'>/agenda/2025/12/7/feestelijk-concert-arnhem-sinfonietta-209526</a> || <p>HUISSEN - In de Zandse Kerk aan de Van Wijkstraat 33 in Huissen verzorgt Arnhem Sinfoniëtta op zondag 7 december een concert. Aanvang 15.00 uur.</p><p>Hoogtepunt van het concert vormt het Hoornconcert van Franz Joseph Strauss. Dit werk wordt omlijst door twee vroege composities van zijn veel bekendere zoon Richard Strauss: een vrolijke feestmars en de serenade voor blazers.&nbsp;</p><p>Daarnaast speelt het orkest twee stukken van de Nederlandse componist Johan Wagenaar. Het concert wordt afgesloten met een uitbundige Concertwals van Aleksandr Glazoenov. &nbsp;</p><p>Solist is de zeventienjarige hoornist Artur Andrade. Het orkest wordt gedirigeerd door Alexej Pevzner, &nbsp;tweede concertmeester bij Phion (het orkest van Gelderland en Overijssel).</p><p>Kaarten kosten 17,50 euro. Houders van Gelrepas en jongeren tot 18 jaar 10,00 euro. Te koop aan de zaal of via <a class="fr-strong" href="http://www.arnhem-sinfonietta.nl" rel="noopener noreferrer" target="_blank">www.arnhem-sinfonietta.nl</a>.</p>
DESCRIPTION:<a href='/agenda/2025/12/7/feestelijk-concert-arnhem-sinfonietta-209526'>/agenda/2025/12/7/feestelijk-concert-arnhem-sinfonietta-209526</a> || <p>HUISSEN - In de Zandse Kerk aan de Van Wijkstraat 33 in Huissen verzorgt Arnhem Sinfoniëtta op zondag 7 december een concert. Aanvang 15.00 uur.</p><p>Hoogtepunt van het concert vormt het Hoornconcert van Franz Joseph Strauss. Dit werk wordt omlijst door twee vroege composities van zijn veel bekendere zoon Richard Strauss: een vrolijke feestmars en de serenade voor blazers.&nbsp;</p><p>Daarnaast speelt het orkest twee stukken van de Nederlandse componist Johan Wagenaar. Het concert wordt afgesloten met een uitbundige Concertwals van Aleksandr Glazoenov. &nbsp;</p><p>Solist is de zeventienjarige hoornist Artur Andrade. Het orkest wordt gedirigeerd door Alexej Pevzner, &nbsp;tweede concertmeester bij Phion (het orkest van Gelderland en Overijssel).</p><p>Kaarten kosten 17,50 euro. Houders van Gelrepas en jongeren tot 18 jaar 10,00 euro. Te koop aan de zaal of via <a class="fr-strong" href="http://www.arnhem-sinfonietta.nl" rel="noopener noreferrer" target="_blank">www.arnhem-sinfonietta.nl</a>.</p>
LAST-MODIFIED:20260425T011008Z
LOCATION: Zandse Kerk | Van Wijkstraat 33 Huissen
SEQUENCE:0
STATUS:CONFIRMED
SUMMARY:Feestelijk concert Arnhem Sinfoniëtta
TRANSP:OPAQUE
END:VEVENT
END:VCALENDAR
