BEGIN:VCALENDAR
PRODID:-//PUBBLE//agenda//NL
VERSION:2.0
METHOD:PUBLISH
BEGIN:VEVENT
DTSTART:20250623T092252Z
DTEND:20250623T102252Z
DTSTAMP:20260420T143404Z
UID:75e5de1b-6d98-4324-a90a-28655f5abe9c
CREATED:20260420T143404Z
NAME:Concert ‘Heb het Leven Lief’ arnhemsekoerier.nl
X-WR-CALNAME:Concert ‘Heb het Leven Lief’
X-ALT-DESC;FMTTYPE=text/html:<a href='/agenda/2025/6/29/concert-heb-het-leven-lief-202179'>/agenda/2025/6/29/concert-heb-het-leven-lief-202179</a> || <p class="InleidingHD" pstyle="Inleiding HD">OOSTERBEEK - Zangeres Britta Maria, pianist/zanger Maurits Fondse en accordeon-virtuoos Oleg Fateev brengen het Franse chanson naar het theater. In de voorstelling ‘Heb het Leven Lief’ brengen zij zondag 29 juni in Tuin de Lage Oorsprong onder meer een ode aan zangeres Liesbeth List, haar muziek en haar leven.&nbsp;</p><p>Het trio speelt de mooiste Nederlandse en Franse liederen en duetten die List ooit zong. Van Ramses Shaffy, Jacques Brel, Charles Aznavour, Frank Boeijen, Theodorakis, Edith Piaf en de grote Nederlandse componisten die voor Liesbeth schreven. Het optreden aan de Van Borsselenweg 36 in Oosterbeek begint om 14.30 uur.&nbsp;</p><p>Tussen de liederen door verhalen over de diverse chansonniers en het bijzondere leven van Liesbeth List. Entree 19,00 euro, Tuinvrienden 13,50 euro. Tickets online via <a class="fr-strong" href="http://https%3A/shop.ikbenaanwezig.nl/kiosk/programma-2025" rel="noopener noreferrer" target="_blank">shop.ikbenaanwezig.nl/kiosk/</a><br><a class="fr-strong" href="http://https%3A/shop.ikbenaanwezig.nl/kiosk/programma-2025" rel="noopener noreferrer" target="_blank">programma-2025 </a>of met toeslag aan de poort.<span class="replaceRed overflowMarker"></span></p>
DESCRIPTION:<a href='/agenda/2025/6/29/concert-heb-het-leven-lief-202179'>/agenda/2025/6/29/concert-heb-het-leven-lief-202179</a> || <p class="InleidingHD" pstyle="Inleiding HD">OOSTERBEEK - Zangeres Britta Maria, pianist/zanger Maurits Fondse en accordeon-virtuoos Oleg Fateev brengen het Franse chanson naar het theater. In de voorstelling ‘Heb het Leven Lief’ brengen zij zondag 29 juni in Tuin de Lage Oorsprong onder meer een ode aan zangeres Liesbeth List, haar muziek en haar leven.&nbsp;</p><p>Het trio speelt de mooiste Nederlandse en Franse liederen en duetten die List ooit zong. Van Ramses Shaffy, Jacques Brel, Charles Aznavour, Frank Boeijen, Theodorakis, Edith Piaf en de grote Nederlandse componisten die voor Liesbeth schreven. Het optreden aan de Van Borsselenweg 36 in Oosterbeek begint om 14.30 uur.&nbsp;</p><p>Tussen de liederen door verhalen over de diverse chansonniers en het bijzondere leven van Liesbeth List. Entree 19,00 euro, Tuinvrienden 13,50 euro. Tickets online via <a class="fr-strong" href="http://https%3A/shop.ikbenaanwezig.nl/kiosk/programma-2025" rel="noopener noreferrer" target="_blank">shop.ikbenaanwezig.nl/kiosk/</a><br><a class="fr-strong" href="http://https%3A/shop.ikbenaanwezig.nl/kiosk/programma-2025" rel="noopener noreferrer" target="_blank">programma-2025 </a>of met toeslag aan de poort.<span class="replaceRed overflowMarker"></span></p>
LAST-MODIFIED:20260420T143404Z
LOCATION: Tuin de Lage Oorsprong | Van Borsselenweg 36 Oosterbeek
SEQUENCE:0
STATUS:CONFIRMED
SUMMARY:Concert ‘Heb het Leven Lief’
TRANSP:OPAQUE
END:VEVENT
END:VCALENDAR
