BEGIN:VCALENDAR
PRODID:-//PUBBLE//agenda//NL
VERSION:2.0
METHOD:PUBLISH
BEGIN:VEVENT
DTSTART:20250519T073708Z
DTEND:20250601T150000Z
DTSTAMP:20260419T133026Z
UID:4e494884-c765-42e0-95b4-da88da6d08d1
CREATED:20260419T133026Z
NAME:Trotsmarkt op landgoed Kasteel Rosendael arnhemsekoerier.nl
X-WR-CALNAME:Trotsmarkt op landgoed Kasteel Rosendael
X-ALT-DESC;FMTTYPE=text/html:<a href='/agenda/2025/6/1/trotsmarkt-op-landgoed-kasteel-rosendael-200335'>/agenda/2025/6/1/trotsmarkt-op-landgoed-kasteel-rosendael-200335</a> || <p>ROZENDAAL - Bezoek zondag 1 juni tussen 11.00 en 17.00 uur de Trotsmarkt op landgoed Kasteel Rosendael. Op deze buitenmarkt vind je een breed en (h)eerlijk assortiment van ambachtelijke lekkernijen, unieke handgemaakte producten en verrassende vondsten van lokale makers.&nbsp;</p><p>De markt is gratis te bezoeken. Bezoek tijdens de Trotsmarkt ook meteen het kasteel en park tegen een gereduceerd tarief (tussen 12.00 en 16.00 uur). Ga voor meer informatie naar<a class="fr-strong" href="http://www.trotsmarkt.nl" rel="noopener noreferrer" target="_blank">&nbsp;www.trotsmarkt.nl</a> of naar<a class="fr-strong" href="http://www.glk.nl/rosendael" rel="noopener noreferrer" target="_blank">&nbsp;www.glk.nl/rosendael</a>.</p>
DESCRIPTION:<a href='/agenda/2025/6/1/trotsmarkt-op-landgoed-kasteel-rosendael-200335'>/agenda/2025/6/1/trotsmarkt-op-landgoed-kasteel-rosendael-200335</a> || <p>ROZENDAAL - Bezoek zondag 1 juni tussen 11.00 en 17.00 uur de Trotsmarkt op landgoed Kasteel Rosendael. Op deze buitenmarkt vind je een breed en (h)eerlijk assortiment van ambachtelijke lekkernijen, unieke handgemaakte producten en verrassende vondsten van lokale makers.&nbsp;</p><p>De markt is gratis te bezoeken. Bezoek tijdens de Trotsmarkt ook meteen het kasteel en park tegen een gereduceerd tarief (tussen 12.00 en 16.00 uur). Ga voor meer informatie naar<a class="fr-strong" href="http://www.trotsmarkt.nl" rel="noopener noreferrer" target="_blank">&nbsp;www.trotsmarkt.nl</a> of naar<a class="fr-strong" href="http://www.glk.nl/rosendael" rel="noopener noreferrer" target="_blank">&nbsp;www.glk.nl/rosendael</a>.</p>
LAST-MODIFIED:20260419T133026Z
LOCATION: Kasteel Rosendael | Rosendael 1 Rozendaal
SEQUENCE:0
STATUS:CONFIRMED
SUMMARY:Trotsmarkt op landgoed Kasteel Rosendael
TRANSP:OPAQUE
END:VEVENT
END:VCALENDAR
