BEGIN:VCALENDAR
PRODID:-//PUBBLE//agenda//NL
VERSION:2.0
METHOD:PUBLISH
BEGIN:VEVENT
DTSTART:20250407T083938Z
DTEND:20250407T093938Z
DTSTAMP:20260420T150433Z
UID:da4289d3-9a4b-47bf-8596-77dcc48b4ac1
CREATED:20260420T150433Z
NAME:Feestelijke opening Tuin de Lage Oorsprong arnhemsekoerier.nl
X-WR-CALNAME:Feestelijke opening Tuin de Lage Oorsprong
X-ALT-DESC;FMTTYPE=text/html:<a href='/agenda/2025/4/13/feestelijke-opening-tuin-de-lage-oorsprong-197875'>/agenda/2025/4/13/feestelijke-opening-tuin-de-lage-oorsprong-197875</a> || <p>OOSTERBEEK - Tuin de Lage Oorsprong aan de Van Borsselenweg 36 in Oosterbeek opent zondag 13 april het nieuwe seizoen met Trio C tot de Derde.&nbsp;</p><p>Het trio bestaat uit Carel den Hertog (viool), Coos Lettink (accordeon) en Caspar Terra (klarinet). De groep speelt Klezmer in de puurste zin van het woord. Een stijl die veel ruimte biedt voor muzikale uitstapjes naar aangrenzende genres als de Balkan en gipsy, de jazz en de klassieke muziek.&nbsp;</p><p>Composities van Oost-Europees georiënteerde klassieke componisten als Béla Bartók en Zoltán Kodály worden afgewisseld met eigenzinnige vertolkingen van traditionele melodieën uit het onuitputtelijke Klezmer- en Balkanrepertoire. Soms brengen de muzikale zijpaden die de groep in slaat hen tot ver over de grens van deze genres.</p><p>De nieuwe kunst in de tuin bestaat uit keramiek beelden van Mirjam van Oostveen en glaskunst van Tijnie Mohlmann. Kunstenares Mirjam van Oostveen is 13 april aanwezig om haar werk toe te lichten.&nbsp;</p><p>Openstelling: 13.00-17.00 uur. Aanvang concert: 14.30 uur. Entree: 19,00 euro, Tuinvrienden 13,50 euro. Tickets via via <a class="fr-strong" href="http://https%3A/shop.ikbenaanwezig.nl/kiosk/programma-2025" rel="noopener noreferrer" target="_blank">https:/shop.ikbenaanwezig.nl/kiosk/programma-2025</a> of aan de poort.&nbsp;</p>
DESCRIPTION:<a href='/agenda/2025/4/13/feestelijke-opening-tuin-de-lage-oorsprong-197875'>/agenda/2025/4/13/feestelijke-opening-tuin-de-lage-oorsprong-197875</a> || <p>OOSTERBEEK - Tuin de Lage Oorsprong aan de Van Borsselenweg 36 in Oosterbeek opent zondag 13 april het nieuwe seizoen met Trio C tot de Derde.&nbsp;</p><p>Het trio bestaat uit Carel den Hertog (viool), Coos Lettink (accordeon) en Caspar Terra (klarinet). De groep speelt Klezmer in de puurste zin van het woord. Een stijl die veel ruimte biedt voor muzikale uitstapjes naar aangrenzende genres als de Balkan en gipsy, de jazz en de klassieke muziek.&nbsp;</p><p>Composities van Oost-Europees georiënteerde klassieke componisten als Béla Bartók en Zoltán Kodály worden afgewisseld met eigenzinnige vertolkingen van traditionele melodieën uit het onuitputtelijke Klezmer- en Balkanrepertoire. Soms brengen de muzikale zijpaden die de groep in slaat hen tot ver over de grens van deze genres.</p><p>De nieuwe kunst in de tuin bestaat uit keramiek beelden van Mirjam van Oostveen en glaskunst van Tijnie Mohlmann. Kunstenares Mirjam van Oostveen is 13 april aanwezig om haar werk toe te lichten.&nbsp;</p><p>Openstelling: 13.00-17.00 uur. Aanvang concert: 14.30 uur. Entree: 19,00 euro, Tuinvrienden 13,50 euro. Tickets via via <a class="fr-strong" href="http://https%3A/shop.ikbenaanwezig.nl/kiosk/programma-2025" rel="noopener noreferrer" target="_blank">https:/shop.ikbenaanwezig.nl/kiosk/programma-2025</a> of aan de poort.&nbsp;</p>
LAST-MODIFIED:20260420T150433Z
LOCATION: Tuin de Lage Oorsprong  | Van Borsselenweg 36 Oosterbeek
SEQUENCE:0
STATUS:CONFIRMED
SUMMARY:Feestelijke opening Tuin de Lage Oorsprong
TRANSP:OPAQUE
END:VEVENT
END:VCALENDAR
