BEGIN:VCALENDAR
PRODID:-//PUBBLE//agenda//NL
VERSION:2.0
METHOD:PUBLISH
BEGIN:VEVENT
DTSTART:20240708T092054Z
DTEND:20240708T102054Z
DTSTAMP:20260420T143910Z
UID:c83d1733-a894-4744-9745-fd7431f10234
CREATED:20260420T143910Z
NAME:Theaterconcert ‘Vive La Chanson’ arnhemsekoerier.nl
X-WR-CALNAME:Theaterconcert ‘Vive La Chanson’
X-ALT-DESC;FMTTYPE=text/html:<a href='/agenda/2024/7/14/theaterconcert-vive-la-chanson-183688'>/agenda/2024/7/14/theaterconcert-vive-la-chanson-183688</a> || <p>OOSTERBEEK - In Tuin de lage Oorsprong aan de Van Borsselenweg 36 in Oosterbeek is zondag 14 juli het theaterconcert ‘Vive La Chanson’ &nbsp;te zien en te horen. Aanvang 14.30 uur.</p><p>In ‘Vive la Chanson’ spelen zangeres Britta Maria, pianist/zanger Maurits Fondse en accordeonist Oleg Fateev ontroerende en opzwepende Franse Chansons van grote Franse zangers als Aznavour, Brel, Gréco, Gainsbourg, Barbara, Yves Montand, Piaf, Zaz, Julien Clerc, Pravi e.a. Aangevuld met zelf geschreven Franse chansons en een enkele vertaling naar het Nederlands. Met tussen de chansons door bijzondere verhalen achter de liedjes en anekdotes over de grote Franse chansonniers.</p><p>Entree: 17,50 euro, Tuinvrienden 12,50 euro, t/m 12 jaar gratis). Tickets via<a class="fr-strong" href="http://www.tuindelageoorsprong.nl" rel="noopener noreferrer" target="_blank">&nbsp;www.tuindelageoorsprong.nl</a></p>
DESCRIPTION:<a href='/agenda/2024/7/14/theaterconcert-vive-la-chanson-183688'>/agenda/2024/7/14/theaterconcert-vive-la-chanson-183688</a> || <p>OOSTERBEEK - In Tuin de lage Oorsprong aan de Van Borsselenweg 36 in Oosterbeek is zondag 14 juli het theaterconcert ‘Vive La Chanson’ &nbsp;te zien en te horen. Aanvang 14.30 uur.</p><p>In ‘Vive la Chanson’ spelen zangeres Britta Maria, pianist/zanger Maurits Fondse en accordeonist Oleg Fateev ontroerende en opzwepende Franse Chansons van grote Franse zangers als Aznavour, Brel, Gréco, Gainsbourg, Barbara, Yves Montand, Piaf, Zaz, Julien Clerc, Pravi e.a. Aangevuld met zelf geschreven Franse chansons en een enkele vertaling naar het Nederlands. Met tussen de chansons door bijzondere verhalen achter de liedjes en anekdotes over de grote Franse chansonniers.</p><p>Entree: 17,50 euro, Tuinvrienden 12,50 euro, t/m 12 jaar gratis). Tickets via<a class="fr-strong" href="http://www.tuindelageoorsprong.nl" rel="noopener noreferrer" target="_blank">&nbsp;www.tuindelageoorsprong.nl</a></p>
LAST-MODIFIED:20260420T143910Z
LOCATION: Tuin de lage oorsprong | van Borsselenweg 36 Oosterbeek
SEQUENCE:0
STATUS:CONFIRMED
SUMMARY:Theaterconcert ‘Vive La Chanson’
TRANSP:OPAQUE
END:VEVENT
END:VCALENDAR
