BEGIN:VCALENDAR
PRODID:-//PUBBLE//agenda//NL
VERSION:2.0
METHOD:PUBLISH
BEGIN:VEVENT
DTSTART:20231006T084051Z
DTEND:20231006T094051Z
DTSTAMP:20260422T151327Z
UID:535ecaf7-85e3-4408-8ff9-5c2787a29f4a
CREATED:20260422T151327Z
NAME:Start leesclub Duits in Arnhem arnhemsekoerier.nl
X-WR-CALNAME:Start leesclub Duits in Arnhem
X-ALT-DESC;FMTTYPE=text/html:<a href='/agenda/2023/10/25/start-leesclub-duits-in-arnhem-168240'>/agenda/2023/10/25/start-leesclub-duits-in-arnhem-168240</a> || <p>ARNHEM - “Heb je een liefde voor Duitse literatuur? Doe mee aan een leesclub Duits. Want samen over boeken praten is leuk én verrijkend. Je bekijkt een boek met andere ogen en ontdekt nieuwe dingen. Bovendien is het een goede manier om je Duits te oefenen”, aldus Senia.</p><p>Er is woensdag 25 oktober om 16.00 uur een informatiebijeenkomst in Bibliotheek Rozet (Kortestraat 16 in Arnhem). Iedereen die belangstelling heeft voor de leesclubs van Senia is welkom. De bijeenkomst is gratis. Bij genoeg animo wordt ter plekke een nieuwe leesclub Duits opgericht. Graag vooraf aanmelden via<a class="fr-strong" href="mailto:Tiny.kleineeram@senia.nl"> Tiny.kleineeram@senia.nl</a>.</p><p>In een leesclub lees je dezelfde boeken en bespreek je deze samen. Elke leesclub maakt jaarlijks een lijst met boeken die het wil bespreken. Dit gebeurt aan de hand van door Senia zorgvuldig samengestelde boekenlijsten. Van de gekozen boeken ontvangen leden verdiepende leeswijzers die verdiepende besprekingen garanderen.</p><p>Meer info via <a class="fr-strong" href="http://www.senia.nl" rel="noopener noreferrer" target="_blank">www.senia.nl</a></p>
DESCRIPTION:<a href='/agenda/2023/10/25/start-leesclub-duits-in-arnhem-168240'>/agenda/2023/10/25/start-leesclub-duits-in-arnhem-168240</a> || <p>ARNHEM - “Heb je een liefde voor Duitse literatuur? Doe mee aan een leesclub Duits. Want samen over boeken praten is leuk én verrijkend. Je bekijkt een boek met andere ogen en ontdekt nieuwe dingen. Bovendien is het een goede manier om je Duits te oefenen”, aldus Senia.</p><p>Er is woensdag 25 oktober om 16.00 uur een informatiebijeenkomst in Bibliotheek Rozet (Kortestraat 16 in Arnhem). Iedereen die belangstelling heeft voor de leesclubs van Senia is welkom. De bijeenkomst is gratis. Bij genoeg animo wordt ter plekke een nieuwe leesclub Duits opgericht. Graag vooraf aanmelden via<a class="fr-strong" href="mailto:Tiny.kleineeram@senia.nl"> Tiny.kleineeram@senia.nl</a>.</p><p>In een leesclub lees je dezelfde boeken en bespreek je deze samen. Elke leesclub maakt jaarlijks een lijst met boeken die het wil bespreken. Dit gebeurt aan de hand van door Senia zorgvuldig samengestelde boekenlijsten. Van de gekozen boeken ontvangen leden verdiepende leeswijzers die verdiepende besprekingen garanderen.</p><p>Meer info via <a class="fr-strong" href="http://www.senia.nl" rel="noopener noreferrer" target="_blank">www.senia.nl</a></p>
LAST-MODIFIED:20260422T151327Z
LOCATION: Bibliotheek Rozet | Kortestraat 16 Arnhem
SEQUENCE:0
STATUS:CONFIRMED
SUMMARY:Start leesclub Duits in Arnhem
TRANSP:OPAQUE
END:VEVENT
END:VCALENDAR
