BEGIN:VCALENDAR
PRODID:-//PUBBLE//agenda//NL
VERSION:2.0
METHOD:PUBLISH
BEGIN:VEVENT
DTSTART:20230530T092053Z
DTEND:20230603T100000Z
DTSTAMP:20260425T145913Z
UID:077a5f62-b59e-489e-989d-da31d42cde63
CREATED:20260425T145913Z
NAME:Inloopochtend het Gouden Rozenkruis arnhemsekoerier.nl
X-WR-CALNAME:Inloopochtend het Gouden Rozenkruis
X-ALT-DESC;FMTTYPE=text/html:<a href='/agenda/2023/6/3/inloopochtend-het-gouden-rozenkruis-162361'>/agenda/2023/6/3/inloopochtend-het-gouden-rozenkruis-162361</a> || <p>ARNHEM - Op de zaterdagochtenden 3 en 10 juni wordt in het bibliotheekje van de school van het Gouden Rozenkruis aan de Velperweg 58 in Arnhem van gedachten gewisseld over de vraag ‘Hoe komen we tot een innerlijke klimaatverandering?’ Steeds van 10.00 tot 12.00 uur. Vrij entree. De boekenuitleen is dan ook geopend.&nbsp;</p><p>“Deze tijd stelt ons voor grote opgaven, bijvoorbeeld hoe om te gaan met de natuur en met de klimaatverandering. De mens speelt daarin een sleutelrol. We vragen ons af: kan er buiten ons wel iets veranderen als we zelf niet veranderen? &nbsp;En wát moet er dan in ons veranderen?”, aldus de organisatie.&nbsp;</p><p>“De spirituele mens vraagt zich onder meer af ‘waarom ben ik op aarde en wat is mijn taak? Wie ben ik nou werkelijk? Wat is de zin van alles? Wie denkt en praat er mee over de vraag: ‘Hoe kan de innerlijke klimaatverandering er uitzien?” Nadere informatie: <a class="fr-strong" href="http://www.rozenkruis.nl" rel="noopener noreferrer" target="_blank">www.rozenkruis.nl</a></p>
DESCRIPTION:<a href='/agenda/2023/6/3/inloopochtend-het-gouden-rozenkruis-162361'>/agenda/2023/6/3/inloopochtend-het-gouden-rozenkruis-162361</a> || <p>ARNHEM - Op de zaterdagochtenden 3 en 10 juni wordt in het bibliotheekje van de school van het Gouden Rozenkruis aan de Velperweg 58 in Arnhem van gedachten gewisseld over de vraag ‘Hoe komen we tot een innerlijke klimaatverandering?’ Steeds van 10.00 tot 12.00 uur. Vrij entree. De boekenuitleen is dan ook geopend.&nbsp;</p><p>“Deze tijd stelt ons voor grote opgaven, bijvoorbeeld hoe om te gaan met de natuur en met de klimaatverandering. De mens speelt daarin een sleutelrol. We vragen ons af: kan er buiten ons wel iets veranderen als we zelf niet veranderen? &nbsp;En wát moet er dan in ons veranderen?”, aldus de organisatie.&nbsp;</p><p>“De spirituele mens vraagt zich onder meer af ‘waarom ben ik op aarde en wat is mijn taak? Wie ben ik nou werkelijk? Wat is de zin van alles? Wie denkt en praat er mee over de vraag: ‘Hoe kan de innerlijke klimaatverandering er uitzien?” Nadere informatie: <a class="fr-strong" href="http://www.rozenkruis.nl" rel="noopener noreferrer" target="_blank">www.rozenkruis.nl</a></p>
LAST-MODIFIED:20260425T145913Z
LOCATION: Het Gouden Rozenkruis | Velperweg 58 Arnhem
SEQUENCE:0
STATUS:CONFIRMED
SUMMARY:Inloopochtend het Gouden Rozenkruis
TRANSP:OPAQUE
END:VEVENT
END:VCALENDAR
